BEGIN:VCALENDAR
VERSION:2.0
PRODID:-//Take the A-Train - ECPv6.15.20//NONSGML v1.0//EN
CALSCALE:GREGORIAN
METHOD:PUBLISH
X-ORIGINAL-URL:https://www.bahnhoffestival.at
X-WR-CALDESC:Veranstaltungen für Take the A-Train
REFRESH-INTERVAL;VALUE=DURATION:PT1H
X-Robots-Tag:noindex
X-PUBLISHED-TTL:PT1H
BEGIN:VTIMEZONE
TZID:Europe/Berlin
BEGIN:DAYLIGHT
TZOFFSETFROM:+0100
TZOFFSETTO:+0200
TZNAME:CEST
DTSTART:20240331T010000
END:DAYLIGHT
BEGIN:STANDARD
TZOFFSETFROM:+0200
TZOFFSETTO:+0100
TZNAME:CET
DTSTART:20241027T010000
END:STANDARD
BEGIN:DAYLIGHT
TZOFFSETFROM:+0100
TZOFFSETTO:+0200
TZNAME:CEST
DTSTART:20250330T010000
END:DAYLIGHT
BEGIN:STANDARD
TZOFFSETFROM:+0200
TZOFFSETTO:+0100
TZNAME:CET
DTSTART:20251026T010000
END:STANDARD
BEGIN:DAYLIGHT
TZOFFSETFROM:+0100
TZOFFSETTO:+0200
TZNAME:CEST
DTSTART:20260329T010000
END:DAYLIGHT
BEGIN:STANDARD
TZOFFSETFROM:+0200
TZOFFSETTO:+0100
TZNAME:CET
DTSTART:20261025T010000
END:STANDARD
END:VTIMEZONE
BEGIN:VEVENT
DTSTART;TZID=Europe/Berlin:20250912T160000
DTEND;TZID=Europe/Berlin:20250912T160000
DTSTAMP:20260421T124214
CREATED:20250708T130800Z
LAST-MODIFIED:20250723T151747Z
UID:10000130-1757692800-1757692800@www.bahnhoffestival.at
SUMMARY:ROOFTOP SESSION w/ ENORM
DESCRIPTION:ENORM: liser & anders \n\n\n\n\n\n\n\n\n\n\n\nDachterasse ARTE Hotelfreier Eintritt \n\n\n\n\n\nROOFTOP SESSION w/ ENORM: liser & anders \n\n\n\nMit ihrem vielfältigen Musikzugang bringt Liser seit geraumer Zeit frischen Wind in die Salzburger DJ-Szene. Die multidisziplinär agierende Künstlerin spielt sich als DJ mühelos durch Epochen und Genres wie House\, Funk\, Hip Hop und Grooves aus den entferntesten Ecken der Welt. Ein Zugang\, der ihr nicht nur zahlreiche Gigs in der Mozartstadt\, sondern auch eineregelmäßige Sendung beim Hà Nội Community Radio verschaffte. \n\n\n\n \n\n\n\n \n\n\n\nanders ist für seine eklektische und experimentelle Herangehensweise an Musik bekannt. Er lässt sich stark von Ambient-Sounds und Field-Recordings inspirieren und stellt Sets zusammen\, die Zuhörer auf unerwartete Reisen mitnehmen. Mit einer tiefen Leidenschaft für Vinyl\, bringt anders eine taktile und rohe Energie in seine Auftritte und schafft eine Atmosphäre\, die sowohl intim als auch experimentell anfühlt. Mitglied vonEnorm & Klubkulturklub Vierundvierzig. \n\n\n\n \n\n\n\n\n\nliser: \n\n\n\n\n \n\n\n\n\nYouTube\n\nInstagram\n\nSoundCloud\n\n\n\n\n\n\n\nanders: \n\n\n\n        Sieh dir diesen Beitrag auf Instagram an            Ein Beitrag geteilt von Andi (@andii.anders) \n\n\n\n\nInstagram\n\nLink\n\nSoundCloud\n\n\n\n\nTTAT ROOFTOP SESSIONS: Mit den Rooftop Sessions geht es dieses für das Take The A-Train und all seine Besucher:innen ganz nach oben! \n\n\n\nAuf der spektakulären Open Air Dachterasse des ARTE Hotels kann man Freitags und Samstags nicht nur die atemberaubende Aussicht auf Salzburg und die umliegende Berglandschaft genießen\, sondern sich mit Clubkultur und Hip Hop für den bevorstehenden Abend eingrooven. ACHTUNG: Bei schlechtem Wetter finden die Sessions in der Trainspotting Lounge im 1. Stock statt. \n\n\n\n\n\n\n\n\n\n\n\nLOCATION\n\n\n\nAlle Locations des Take The A-Train Festivals sind entspannt zu Fuß\, mit dem Fahrrad oder den öffentlichen Verkehrsmitteln erreichbar.
URL:https://www.bahnhoffestival.at/event/rooftopsession-w-enorm/
LOCATION:Rooftop @ arte Hotel\, Rainerstraße 28\, Salzburg\, Salzburg\, 5020\, Austria
CATEGORIES:freier Eintritt
ATTACH;FMTTYPE=image/png:https://www.bahnhoffestival.at/wp-content/uploads/ENORM-scaled.png
END:VEVENT
BEGIN:VEVENT
DTSTART;TZID=Europe/Berlin:20250912T170000
DTEND;TZID=Europe/Berlin:20250912T170000
DTSTAMP:20260421T124214
CREATED:20250416T143619Z
LAST-MODIFIED:20250725T090255Z
UID:10000120-1757696400-1757696400@www.bahnhoffestival.at
SUMMARY:KÄSSY
DESCRIPTION:KÄSSY \n\n\n\n\n\n17.00 \n\n\n\n\n\nMain Stage  \n\n\n\n\n\nfreier Eintritt \n\n\n\n\n\nKÄSSY \n\n\n\n\n\n\n\nKÄSSY ist alles und jeder der sie sein möchte – Sängerin\, Instrumentalistin\, Produzentin und Performerin.  \n\n\n\n \n\n\n\n\n\n\n \n\n\n\n\n\n\n\n\nInstagram\n\nYouTube\n\nSpotify\n\n\n\n\nEinen Moment klingt ihre Musik als würde man durch die tiefsten Tiefen einer eklektischen\, reizüberflutenden Hölle wandern und im nächsten Moment klingt sie nach einem unbeschwerten Schweben. In fast allen Aspekten ihrer Kunst ist sie Autodidaktin\, und somit erblickten die ersten Demos das Licht dieser Welt durch die Vorhänge ihres Kinderzimmers. Schon bald entstand daraus ihre Debut Single „Skirt On Pants“. Schönheit trifft auf Hässlichkeit\, sanft auf harsch. Genau diese Wiedersprüche und Plot Twists in ihrer Musik\, die markante Stimme und die eklektisch\, bunte Produktion\, ermöglichen es KÄSSY sich kompromisslos auszudrücken. \n\n\n\n \n\n\n\nArtistbild (c) Clemens Ascher \n\n\n\n\nNACHHER18:30 UCHE YARA\n\n\n\n\n\n\n\n\n\n\n\n\n\n\n\n\n\n\n\n\nLOCATION
URL:https://www.bahnhoffestival.at/event/kaessy/
LOCATION:Main Stage Hbf\, Südtiroler Platz 1\, Salzburg\, 5020\, Österreich
CATEGORIES:freier Eintritt
ATTACH;FMTTYPE=image/jpeg:https://www.bahnhoffestival.at/wp-content/uploads/1-KAeSSY_Clemens-Ascher-scaled.jpeg
END:VEVENT
BEGIN:VEVENT
DTSTART;TZID=Europe/Berlin:20250912T173000
DTEND;TZID=Europe/Berlin:20250912T173000
DTSTAMP:20260421T124214
CREATED:20250710T135450Z
LAST-MODIFIED:20250725T120627Z
UID:10000134-1757698200-1757698200@www.bahnhoffestival.at
SUMMARY:IMPRO:STATION
DESCRIPTION:IMPRO:STATION \n\n\n\n\n\n\n\n\n\n\n\nBewohnerservice E-Vorstadtfreier Eintritt \n\n\n\n\n\nIMPRO:STATION \n\n\n\n«Impro:station» ist ein Projekt\, bei dem das Duo Natalia Castaneira (Tanz) und Victor Toral (Musik) ein musikalisiertes Tanzwerk hervorbringt\, indem es die Werkzeuge untersucht\, mit denen beide Disziplinen arbeiten. Einerseits entwickelt der Tanz Motive durch die rhythmischen und melodischen Strategien der Jazzmusik und andererseits die Musik wird versuchen\, Tanz zu musikalisieren\, indem sie Rhythmen von den Tanz Figuren erzeugt. Es handelt sich um ein spannendes und ehrgeiziges Projekt\, dessen Daseinsberechtigung in der Synergie zwischen den beiden Disziplinen liegt. Mit Raum für getanzte Melodien und musikalisierten Tanz offenbart sich «Impro:station» als ein transversales\, melodisches und visuelles Werk\, bei dem das Improvisieren im Mittelpunkt steht. \n\n\n\n \n\n\n\n\n\nNatalia Castaneira: \n\n\n\n\n \n\n\n\n\nInstagram\n\n\n\nVictor Toral: \n\n\n\n\n \n\n\n\n\nYouTube\n\nLink\n\n\n\n\nNatalia Castaneira wurde 1986 in Mexiko geboren. Sie begann ihre Tanzkarriere in Barcelona\, wo sie an mehreren Tanz- und Theaterkursen und Workshops an verschiedenen Schulen teilgenommen hat. 2012 Abschluss an der SEAD (Salzburg Experimental Academy of Dance). Als Tänzerin hat sie mitverschiedenen Compagnien und Künstlern in Mexiko\, Österreich und Spanien zusammengearbeitet. Im Jahr 2017 erhielt sie Unterstützung vom Nationalen Fonds für Kultur und Künste in Mexiko\, was es ihr ermöglichte\, sich mit der Kreation auseinanderzusetzen. Im Jahr 2020 wurde sie gegründet\, um ihr erstes Gruppenstück zu schaffen. Seitdem macht sie eigene Stücke\, arbeitet mit anderen Künstlern zusammen und unterrichtet in Salzburg\, ihrer Heimatstadt.Victor Toral (Spanien) begann seine musikalische Ausbildung in Salamanca\, Spanien. Er setzte sein Musikstudium in Österreich fort\, wo er heute lebt und seine pädagogische und künstlerische Arbeitverbindet. Er spielte als Solokünstler und in verschiedenen Ensembles in Österreich\, Spanien\, Irland\, Deutschland\, Finnland\, Norwegen\,\,Mexiko und den USA. Parallel dazu studierte er Philosophie und vergleichende Literaturwissenschaft. \n\n\n\n \n\n\n\n\n\n\n\n\n\n\n\nLOCATION\n\n\n\nAlle Locations des Take The A-Train Festivals sind entspannt zu Fuß\, mit dem Fahrrad oder den öffentlichen Verkehrsmitteln erreichbar.
URL:https://www.bahnhoffestival.at/event/improstation/
LOCATION:Bewohnerservice Elisabeth-Vorstadt\, Elisabethstraße 9\, Salzburg\, 5020
CATEGORIES:freier Eintritt
ATTACH;FMTTYPE=image/webp:https://www.bahnhoffestival.at/wp-content/uploads/Untitled2-scaled.webp
END:VEVENT
BEGIN:VEVENT
DTSTART;TZID=Europe/Berlin:20250912T180000
DTEND;TZID=Europe/Berlin:20250912T220000
DTSTAMP:20260421T124214
CREATED:20250821T085139Z
LAST-MODIFIED:20250822T134331Z
UID:10000145-1757700000-1757714400@www.bahnhoffestival.at
SUMMARY:LUCID CODE: POP UP INSTALLATION
DESCRIPTION:LUCID CODE \n\n\n\n\n\n18.00 – 22.00 \n\n\n\n\n\nAm HirschengrünHotel zum Hirschen \n\n\n\n\n\nfreier Eintritt \n\n\n\n\n\nLUCID CODE \n\n\n\n\n\n\n\nLucid Code ist ein audiovisuelles Werk von Ricardo Pastor und Thomas Geissl\, eine algorithmische\, interaktive Skulptur\, die Licht und Klang zu einem vielschichtigen\, generativen Erlebnis verbindet. Geometrie trifft auf Echtzeit-Code und durchdringt den Raum mit sich stetig wandelnden Mustern und Klangtexturen. \n\n\n\n\nRicardo Pastor und Thomas Geissl sind beide Studierende des Masterstudiengangs Postdigital Lutherie am Tangible Music Lab der Kunstuniversität Linz.  \n\n\n\nRicardo Pastor ist Musiker und Künstler mit Sitz in Linz. Sein Werk umfasst emotionale Popmusik\, experimentelle Klanginstallationen und algorithmische Musik. Er interessiert sich besonders für Chiptunes\, Interaktionsdesign sowie die Beziehung von Gestik und Klang. Ricardo hat einen Master in Elektroakustischer Komposition (CSKG\, 2024).  \n\n\n\nThomas Geissl ist freiberuflicher Creative Technologist\, DJ und an verschiedenen musikalischen Projekten beteiligt\, darunter Glump und Klanglichtstrom. Seine Arbeit verbindet technologische Innovation mit künstlerischem Ausdruck und erforscht interaktive Klanggestaltung. \n\n\n\n\n\n\n\nLOCATION\n\n\n\nAlle Locations des Take The A-Train Festivals sind entspannt zu Fuß\, mit dem Fahrrad oder den öffentlichen Verkehrsmitteln erreichbar.
URL:https://www.bahnhoffestival.at/event/lucid-code-pop-up-installation-2/
LOCATION:Am Hirschengrün\, Elisabethstraße 5\, Salzburg\, 5020\, Austria
CATEGORIES:freier Eintritt
ATTACH;FMTTYPE=image/png:https://www.bahnhoffestival.at/wp-content/uploads/lucid_code_squared.png
END:VEVENT
BEGIN:VEVENT
DTSTART;TZID=Europe/Berlin:20250912T183000
DTEND;TZID=Europe/Berlin:20250912T183000
DTSTAMP:20260421T124214
CREATED:20250416T143657Z
LAST-MODIFIED:20250725T090240Z
UID:10000119-1757701800-1757701800@www.bahnhoffestival.at
SUMMARY:UCHE YARA
DESCRIPTION:UCHE YARA \n\n\n\n\n\n18.30 \n\n\n\n\n\nMain Stage  \n\n\n\n\n\nfreier Eintritt \n\n\n\n\n\nUCHE YARA \n\n\n\n\n\n\n\nUCHE YARA – Art-Pop der Grenzen sprengt \n\n\n\n \n\n\n\n\n\n\n \n\n\n\n\nLink\n\nInstagram\n\nSpotify\n\nYouTube\n\n\n\n\nMit nur 22 Jahren ist UCHE YARA dabei\, die Grenzen des modernen Pop neu zu definieren. Als Sängerin\, Multiinstrumentalistin und Produzentin verschmilzt sie Genres wie Alternative Pop\, R&B\, Club Sounds und Indie zu einer einzigartigen Klangwelt. Ihre Musik ist roh\, energetisch und emotional – mal hypnotisch-intensiv\, mal fragil und intim.Nach einer Europa Tour mit ihrer Band im Jahr 2024 und den gefeierten Debüt-EPs ‘GOLDEN DAYS’ und ‘honey\,’ wurde sie 2025 mit dem renommierten MME Award ausgezeichnet. Ihre Live-Shows überzeugen durch pure Energie: UCHE YARA wechselt mühelos zwischen verschiedensten Stimmungen und Genres\, während ihre ausdrucksstarke Stimme das Publikum in den Bann zieht. Mit ihren jüngsten Releases und internationalen Kollaborationen unterstreicht sie ihren Status als eine der spannendsten Newcomerinnen Europas. \n\n\n\n \n\n\n\nArtistbild (c) Mala Kolumna \n\n\n\n\nVORHER17:00 KÄSSY\n\n\n\n\n\n\n\n\n\n\n\n\n\n\n\n\n\n\n\n\nLOCATION\n\n\n\nAlle Locations des Take The A-Train Festivals sind entspannt zu Fuß\, mit dem Fahrrad oder den öffentlichen Verkehrsmitteln erreichbar.
URL:https://www.bahnhoffestival.at/event/uche-yara/
LOCATION:Main Stage Hbf\, Südtiroler Platz 1\, Salzburg\, 5020\, Österreich
CATEGORIES:freier Eintritt
ATTACH;FMTTYPE=image/jpeg:https://www.bahnhoffestival.at/wp-content/uploads/2-UCHE-YARA-©-Mala-Kolumna-scaled.jpg
END:VEVENT
BEGIN:VEVENT
DTSTART;TZID=Europe/Berlin:20250912T183000
DTEND;TZID=Europe/Berlin:20250912T183000
DTSTAMP:20260421T124214
CREATED:20250703T104953Z
LAST-MODIFIED:20250708T121532Z
UID:10000122-1757701800-1757701800@www.bahnhoffestival.at
SUMMARY:David Binderberger “NOW” feat. Marlies Fürst
DESCRIPTION:David Binderberger “NOW” feat. Marlies Fürst \n\n\n\n\n\n\n\n\n\n\n\nSalon Hohenstauffenfreier Eintritt \n\n\n\n\n\nDavid Binderberger “NOW” feat. Marlies Fürst \n\n\n\nDer Salzburger Gitarrist und Komponist David Binderberger verwebt Einflüsse aus Jazz\, südamerikanischer Musik\, Jazz Manouche und traditioneller österreichischer Musik zu einem einzigartigen\, genreübergreifenden Klangbild. Ergänzt durch Momente freier Improvisation und Virtuosität wird das Konzert zu einem intimen Erlebnis voller Überraschungen und Emotionen. Seine Musik nimmt das Publikum mit auf eine akustische Entdeckungsreise\, die sowohl die äußere Welt als auch die inneren\, persönlichen Themen des Komponisten widerspiegelt.  \n\n\n\nMit seinem Album ‚NOW‘ führt David musikalisch durch Themen wie Reisen\, Freiheit und die Verbindung zur eigenen Herkunft. \n\n\n\n\n\nDavid Binderberger: \n\n\n\n\n \n\n\n\n\nYouTube\n\nInstagram\n\nLink\n\nSpotify\n\n\n\nMarlies Fürst: \n\n\n\n\n \n\n\n\n\nYouTube\n\nInstagram\n\nLink\n\nSpotify\n\n\n\n\nSeine Eigenkompositionen entstanden auf langen Road-Trips durch Portugal und Italien während eines Aufenthalts in Griechenland und schließlich in Österreich\,  auf einer abgelegenen Berghütte ohne Strom in den verschneiten Alpen.  \n\n\n\nDavid Binderbergers musikalischen Vorbilder wie Biréli Lagrène und Yamandu Costa sind deutlich in seiner Musik zu hören und das Publikum darf sich auf eine vielschichtige und mitreißende Darbietung freuen\, die nicht nur virtuos\, sondern auch emotional tiefgehend ist. Von mitreißenden Rhythmen bis hin zu zarten\, intimen Momenten erwartet die Zuhörer eine Reise durch die vielfältigen Klangwelten der Gitarre. \n\n\n\n\n\n\n\n\n\n\n\nLOCATION\n\n\n\nAlle Locations des Take The A-Train Festivals sind entspannt zu Fuß\, mit dem Fahrrad oder den öffentlichen Verkehrsmitteln erreichbar.
URL:https://www.bahnhoffestival.at/event/mele/
LOCATION:Salon Hohenstauffen\, Elisabethstraße 19\, Salzburg\, 5020\, Österreich
CATEGORIES:freier Eintritt
ATTACH;FMTTYPE=image/png:https://www.bahnhoffestival.at/wp-content/uploads/Binderberger-Fuerst-1-scaled.png
END:VEVENT
BEGIN:VEVENT
DTSTART;TZID=Europe/Berlin:20250912T193000
DTEND;TZID=Europe/Berlin:20250912T193000
DTSTAMP:20260421T124214
CREATED:20250530T093939Z
LAST-MODIFIED:20250725T121744Z
UID:10000124-1757705400-1757705400@www.bahnhoffestival.at
SUMMARY:ISCHIA
DESCRIPTION:ISCHIA \n\n\n\n\n\n19.30 \n\n\n\n\n\nCarla Velorep \n\n\n\n\n\nfreier Eintritt \n\n\n\n\n\nISCHIA \n\n\n\n\n\n\n\nBesetzung: Adele Ischia\, Peter Mathis\, Luca Mueller\, Philipp HacklDie Musik des Wiener Quartettes ischia schafft etwas\, das nur wenigen gelingt: Sie kann sowohl Spaziergänge im Nieselregen an grauen Nachmittagen als auch unbeschwerte Abende am Ende eines heißen Sommertags begleiten. \n\n\n\n\n\n\n \n\n\n\n\n\n\n\n\nBandcamp\n\nInstagram\n\n\n\n\nMal wird das Publikum dabei von dunklen Harmonien an geheimnisvolle Orte geführt\, mal spannt sich eine wärmend-sehnsüchtige Decke aus Soundwolken über die Verse und Refrains und eröffnet eine Welt zwischen Shoegaze\, Dreampop und Indierock\, in der rohe Gitarren auf eingängige Hooks treffen\, komplexe Songstrukturen auf Texte\, die sich – nicht nur\, aber wenn\, dann auch gerne eindeutig – an den Zumutungen des Patriacharts und der sogenannten Leistungsgesellschaft abarbeiten. Und zu denen es sich trotzdem tanzen lässt. \n\n\n\nArtistbild: (c) Franziska Barcsay \n\n\n\n\n\n\n\nLOCATION\n\n\n\nAlle Locations des Take The A-Train Festivals sind entspannt zu Fuß\, mit dem Fahrrad oder den öffentlichen Verkehrsmitteln erreichbar.
URL:https://www.bahnhoffestival.at/event/ischia/
LOCATION:carlavelorep\, Elisabethstraße 17\, Salzburg\, 5020
CATEGORIES:freier Eintritt
ATTACH;FMTTYPE=image/jpeg:https://www.bahnhoffestival.at/wp-content/uploads/ischia_3CFranziska-Barcsay-2-scaled.jpg
END:VEVENT
BEGIN:VEVENT
DTSTART;TZID=Europe/Berlin:20250912T200000
DTEND;TZID=Europe/Berlin:20250912T200000
DTSTAMP:20260421T124214
CREATED:20250617T121817Z
LAST-MODIFIED:20250725T090520Z
UID:10000125-1757707200-1757707200@www.bahnhoffestival.at
SUMMARY:DRiP
DESCRIPTION:DRiP \n\n\n\n\n\n20.00 \n\n\n\n\n\nARTE Hotelhu:goes 14 \n\n\n\n\n\nfreier Eintritt \n\n\n\n\n\nDRiP \n\n\n\n\n\n\n\nBesetzung:Danny Rico: kLukas Pamminger: bNick Linnik: gThomas Käfel: dr \n\n\n\n\n\n\n \n\n\n\n\n\n\n\n\nLink\n\nYouTube\n\nInstagram\n\nFacebook\n\n\n\n\nDie Arbeit des Quartetts DRiP lebt im Bereich progressiver Musik\, die klassische Strukturen mit jazziger Harmonik fusioniert und komplexe Arrangements dramaturgischer Agogik undImprovisation gegenüberstellt. Das 2021 vom Pianisten\, Schlagzeuger und Komponisten Danny Rico gegründete Trio veröffentlichte im Oktober 2022 unter dem Label jazzit:edition das Album „Artificial Anus” und im Frühjahr 2024 das Album „Forest People“. Mit Beginn des Jahres 2025 wurde das Trio um den Londoner Gitarristen Nick Linnik erweitert. Anfang Jänner wurden in einer schön verrückten Woche neue Kompositionen erprobt\, aufgeführt\, aufgenommen und zu Videos verarbeitet. In mehreren Kollaborationen zwischen Nick und Danny waren zuvor u.a. bereits die Alben „Derek Trotson“ (2011) und „Threads“ (2013) entstanden. \n\n\n\nArtistbild: (c) Stefan Wascher \n\n\n\n\nVORHERCarla Velorep19:30 ISCHIA\n\n\n\n\n\n\n\n\n\n\n\n\n\nNACHHERJazzit21:00 KOENIGLOLLIPOP\n\n\n\n\n\n\n\n\n\n\n\n\n\n\n\n\n\n\n\n\n\n\nLOCATION\n\n\n\nAlle Locations des Take The A-Train Festivals sind entspannt zu Fuß\, mit dem Fahrrad oder den öffentlichen Verkehrsmitteln erreichbar.
URL:https://www.bahnhoffestival.at/event/drip/
LOCATION:hu:goes14 @ arte Hotel\, Rainerstraße 28\, Salzburg\, 5020
CATEGORIES:freier Eintritt
ATTACH;FMTTYPE=image/jpeg:https://www.bahnhoffestival.at/wp-content/uploads/DRPc-Stefan-Wascher.jpeg
END:VEVENT
BEGIN:VEVENT
DTSTART;TZID=Europe/Berlin:20250912T200000
DTEND;TZID=Europe/Berlin:20250912T200000
DTSTAMP:20260421T124214
CREATED:20250728T101408Z
LAST-MODIFIED:20250729T081713Z
UID:10000138-1757707200-1757707200@www.bahnhoffestival.at
SUMMARY:CINEMA NEXT: Sounds & Screens
DESCRIPTION:CINEMA NEXT: Sounds & Screens \n\n\n\n\n\n20.00 \n\n\n\n\n\nHotel zum Hirschen \n\n\n\n\n\nfreier Eintritt \n\n\n\n\n\nSounds & Screens \n\n\n\n\n\n\n\n \n\n\n\n\n\n\n\n\n\nInstagram\n\nLink\n\n\n\n\nRaus aus dem Kino\, rein in die Stadt: Auch heuer werden die Wände des Bahnhofsviertels wieder zur Leinwand. Im Rahmen des Programms „Cinema Next: Sounds & Screens“ zeigt Cinema Next auch in diesem Jahr eine bunt gemischte Auswahl an Musikvideos von Salzburger Musiker*innen\, Take The A-Train Acts und bundesweiten Highlights.  \n\n\n\nIhr bringt eure Lieblingssnacks und Freund*innen mit\, Cinema Next serviert euch die besten Musikvideos Österreichs! \n\n\n\n \n\n\n\n\n\n\n\nLOCATION\n\n\n\nAlle Locations des Take The A-Train Festivals sind entspannt zu Fuß\, mit dem Fahrrad oder den öffentlichen Verkehrsmitteln erreichbar.
URL:https://www.bahnhoffestival.at/event/cinema-next-sounds-screens/
LOCATION:Hotel zum Hirschen\, Elisabethstraße 5\, Salzburg\, 5020\, Österreich
CATEGORIES:freier Eintritt
ATTACH;FMTTYPE=image/png:https://www.bahnhoffestival.at/wp-content/uploads/CinemaNext_Logo.png
END:VEVENT
BEGIN:VEVENT
DTSTART;TZID=Europe/Berlin:20250912T210000
DTEND;TZID=Europe/Berlin:20250912T210000
DTSTAMP:20260421T124214
CREATED:20250410T110855Z
LAST-MODIFIED:20250708T122825Z
UID:10000114-1757710800-1757710800@www.bahnhoffestival.at
SUMMARY:KOENIGLOLLIPOP
DESCRIPTION:KOENIGLOLLIPOP \n\n\n\n\n\n\n\n\n\n\n\nTICKET KAUFEN \n\n\n\n\n\n24\,- VVK28\,- AK15\,- Ermäßigt \n\n\n\n\n\nkoenigleopold   \n\n\n\nkoenigleopold \n\n\n\nmc rhine  \n\n\n\nkönig riegler \n\n\n\n koeniglollipopLeo Riegler: v\, turnt.\, e\, g\, k\, saxLukas König: d\, b synth\, tr \n\n\n\n\n\n\n \n\n\n\n\nLink\n\nYouTube\n\nFacebook\n\n\n\n\n„We are known by many names“Neuer Name\, neues Glück – und doch die gleiche kompromisslose Energie.  Das Duo Lukas König und Leo Riegler meldet sich zurück und knüpft dort an\, wo sie aufgehört haben. Unter dem Motto: Bubblegum-Hip-Hop trifft Neue Musik und Free Jazz nehmen die beiden Spezialisten nach zwei Jahrzehnten gemeinsamer musikalischer Eskapaden wieder Fahrt auf. Hieß ihr letztes Album unter dem Namen „König Riegler“ noch „Fame Over“ (JazzWerkstatt Records\, 08/20)\, so schreien sie nun: „Gib mir mein Fame zurück!“Wenn koeniglollipop loslegt\, wird es nicht langweilig.  Hochdruck ist Programm: Glasfassaden zerspringen\, Anwälte werden alarmiert – „Es ist schon wieder was passiert!“ – Instrumente gehen zu Bruch\, während Säle bis zum letzten Platz gefüllt werden.Inmitten dieser chaotischen Energie liegt ein künstlerisches Manifest: In diesen politisch schwierigen Zeiten bleibt nur ein Weg – die völlige Hingabe an die Poesie und die Kunst.  Die Beatmaschine Lukas König\, der die Beats liefert für Dälek\, Sensational und Moor Mother\, ergibt mit Leo Riegler\, dem eigenbrötlerischem Künstler mit Schreibmaschine und Turntable bewafnet\, eine wie gewohnt seltsame Symbiose. Gemeinsam schöpfen sie Inspiration aus aus dem Untergrund und schaffen ein kleines Stück Wahrheit – „Wir halten dem Mainstream den Rücken frei.” \n\n\n\n\nNACHHER23.00: MOSES YOOFEE TRIO\n\n\n\n\n\n\n\n\n\n\n\n\n\nNACHHER23.55: Nighttrain w/ COCO MARIA\n\n\n\n\n\n\n\n\n\n\n\n\nTICKET KAUFEN KOENIGLOLLIPOPMOSES YOOFEE TRIO / COCO MARÍA\n\n\n\n\n\n\n\n\n\n\n\nLOCATION\n\n\n\nAlle Locations des Take The A-Train Festivals sind entspannt zu Fuß\, mit dem Fahrrad oder den öffentlichen Verkehrsmitteln erreichbar.
URL:https://www.bahnhoffestival.at/event/koeniglollipop/
LOCATION:Jazzit\, Elisabethstr. 11\, Salzburg\, 5020\, Österreich
ATTACH;FMTTYPE=image/jpeg:https://www.bahnhoffestival.at/wp-content/uploads/Bild-scaled.jpg
END:VEVENT
BEGIN:VEVENT
DTSTART;TZID=Europe/Berlin:20250912T223000
DTEND;TZID=Europe/Berlin:20250912T223000
DTSTAMP:20260421T124214
CREATED:20250410T110833Z
LAST-MODIFIED:20250708T122854Z
UID:10000115-1757716200-1757716200@www.bahnhoffestival.at
SUMMARY:MOSES YOOFEE TRIO
DESCRIPTION:MOSES YOOFEE TRIO \n\n\n\n\n\nTICKET KAUFEN MOSES YOOFEE TRIOKOENIGLOLLIPOP / COCO MARÍA\n\n\n\n\n\n24\,- VVK28\,- AK15\,- Ermäßigt \n\n\n\n\n\nMOSES YOOFEE TRIO \n\n\n\n\n\n\n\nMOSES YOOFEE TRIOMoses Yoofee: k\, prodRoman Klobe-Barangă: bNoah Fürbringer: dr \n\n\n\n\n\n\n \n\n\n\n\nLink\n\nYouTube\n\nInstagram\n\nSpotify\n\n\n\n\nDas Trio – Pianist/Keyboarder/Produzent Moses Yoofee\, Bassist Roman Klobe-Barangă und Schlagzeuger Noah Fürbringer – formierte sich\, nachdem Moses Roman am Berliner Jazz-Institut kennengelernt hatte. Roman schlug vor\, mit seinem Freund Noah\, der inzwischen in Mannheim studierte\, zu jammen. Im Januar 2021\, etwa ein Jahr später\, begann Noah – der bereits dafür bekannt war\, Videos von seinem großartigen Schlagzeugspiel in den sozialen Medien zu teilen – damit\, Aufnahmen von den Proben des Trios zu posten\, und ein weiteres Video\, das Roman hochgeladen hatte\, ging\, wie sie es ausdrücken\, „lowkey viral“. Ein eigener Instagram-Account verhalf ihnen bald zu einem größeren Publikum\, und als sich die Nachricht in ganz Europa verbreitete\, begannen sie\, auch außerhalb Europas zu spielen\, unter anderem Ende letzten Jahres in Londons berühmtem Ronnie Scott’s. \n\n\n\nDas Trio entstand zu einer Zeit\, in der sich der Jazz in bester Verfassung befindet\, und hat nun Clubs und Veranstaltungsorte auf dem ganzen Kontinent mit erstaunlichen\, fast schon obszön tighten Live-Shows zum Glühen gebracht\, wovon auch das elektrisierende Video zu On That Side zeugt. Die Band wendet sich sowohl RnB\, Hip-Hop und Soul als auch traditionelleren Jazzquellen zu – obwohl sie definitiv von J Dilla und Madlib vereint werden – und führt eine Vielzahl von Einflüssen an\, aber\, wie Roman klarstellt\, „wir finden eine gemeinsame Basis in unserer Musikalität“. Nichtsdestotrotz sind die Mitglieder des Trios auch schon für andere Kollaborationen bekannt. Neben seinen Soloaufnahmen unter seinem Nachnamen arbeitet Moses derzeit mit Footprint Project\, dem Wanubale-Kollektiv und dem Platin-Seller Peter Fox von der ebenfalls erfolgreichen deutschen Band Seeed zusammen\, für die er als musikalischer Leiter und Pianist tätig ist. (Er ist bereits auf Fox‘ 2022 erschienenem Hit „Zukunft Pink“ zu hören.) Auch Roman ist an der neuen Platte von Fox beteiligt und arbeitet unter anderem mit der deutsch-kurdischen Sängerin Mailan Ghafouri alias Lune zusammen. Noah ist nicht weniger beschäftigt\, er gründet 2020 Lord Of The Amazing Panther\, veröffentlicht 2022 ein Album als Noah Fürbringer and Friends und spielt mit dem gefeierten deutsch-amerikanischen Rapper Casper\, dem New Yorker Saxophonisten Alex Han\, dem deutschen Schauspieler/Comedian/Musiker Teddy Teclebhan und dem in Neuseeland geborenen Future-Soul-Künstler Noah Slee\, mit dem Roman ebenfalls auftritt. Jetzt aber kehren Moses\, Roman und Noah als das formidable Moses Yoofee Trio mit ihrer ersten neuen Musik seit über einem Jahr zurück. Das bereits mit Spannung erwartete Album On That Side ist eine atemberaubende Einführung in einen der besten jungen Jazz-Acts und deutet auf eine noch vielversprechendere Zukunft hin. \n\n\n\nArtistbild (c) Aysan Lamby \n\n\n\n\nVORHER21.00: KOENIGLOLLIPOP\n\n\n\n\n\n\n\n\n\n\n\n\n\nNACHHER: NIGHTTRAIN w/23.55: COCO MARÍA\n\n\n\n\n\n\n\n\n\n\n\n\n\n\n\n\n\n\n\n\nTicket kaufenMOSES YOOFEE TRIOKOENIGLOLLIPOP / COCO MARÍA\n\n\n\n\n\n\n\n\n\n\n\nLOCATION\n\n\n\nAlle Locations des Take The A-Train Festivals sind entspannt zu Fuß\, mit dem Fahrrad oder den öffentlichen Verkehrsmitteln erreichbar.
URL:https://www.bahnhoffestival.at/event/moses-yoofee-trio/
LOCATION:Jazzit\, Elisabethstr. 11\, Salzburg\, 5020\, Österreich
ATTACH;FMTTYPE=image/jpeg:https://www.bahnhoffestival.at/wp-content/uploads/MYT_c_1_Aysan_Lamby_0924-1-scaled.jpg
END:VEVENT
BEGIN:VEVENT
DTSTART;TZID=Europe/Berlin:20250912T235500
DTEND;TZID=Europe/Berlin:20250912T235500
DTSTAMP:20260421T124214
CREATED:20250410T110819Z
LAST-MODIFIED:20250901T124640Z
UID:10000118-1757721300-1757721300@www.bahnhoffestival.at
SUMMARY:Nighttrain w/ COCO MARÍA
DESCRIPTION:COCO MARÍA \n\n\n\n\nTICKET KAUFENMYT /KOENIGLOLLIPOP / COCO MARÍA\n\n\n\n\n\nIm Ticket für KOENIGLOLLIPOP / MOSES YOOFEE TRIO ist der Nighttrain w/ COCO MARÍA inkludiert. 24\,- VVK / 28\,- AK / 15\,- Ermäßigt \n\n\n\nNur Nighttrain w/ COCO MARÍA 10\, – AK \n\n\n\n\n\nCOCO MARÌA \n\n\n\n\n\n\n\nDie in Mexiko geborene Coco María wuchs umgeben vom Klang der Musik auf und entwickelte schnell eine Vorliebe dafür\, nicht nur die Klänge ihrer Kindheit zu hören\, sondern sie auch zu teilen. Ihre Vorliebe für vibrierende Musik führte Coco dazu\, afro-lateinamerikanische Rhythmen aus Süd- und Mittelamerika\, Brasilien\, der Karibik und darüber hinaus zu entdecken. Heute ist ihre Auswahl eine Mischung aus fröhlichen und obskuren Perlen\, die von Jazz über Samba\, Latin-Funk und Cumbia bis hin zu einer Reihe von Raritäten aus sonnigeren\, weit entfernten Orten reicht. \n\n\n\n\n\n\n \n\n\n\n\nLink\n\nInstagram\n\nFacebook\n\nSoundCloud\n\n\n\n\n Coco María ist Gastgeberin der Morgensendung Breakfast Club Coco“ bei Gilles Petersons Online-Radio Worldwide FM in London. Außerdem präsentiert sie ihren originellen Sound auf Festivals in aller Welt wie Worldwide Sète\, Dekmantel\, We out Here und anderen. Im Jahr 2021 stieg sie mit Club Coco“ auf dem Schweizer Label Bongo Joe in die Welt der Compilation-Kuratoren ein. Dies beinhaltete einen eigenen Song und ihr Debüt als Komponistin.Artistbild (c) Tim Knoll \n\n\n\n\nVORHER: 21.00: KOENIGLOLLIPOP\n\n\n\n\n\n\n\n\n\n\n\n\n\nVORHER:22.30: MOSES YOOFEE TRIO\n\n\n\n\n\n\n\n\n\n\n\n\n\n\n\n\n\n\n\n\nLOCATION\n\n\n\nAlle Locations des Take The A-Train Festivals sind entspannt zu Fuß\, mit dem Fahrrad oder den öffentlichen Verkehrsmitteln erreichbar.
URL:https://www.bahnhoffestival.at/event/nighttrain-w-coco-maria/
LOCATION:Jazzit\, Elisabethstr. 11\, Salzburg\, 5020\, Österreich
ATTACH;FMTTYPE=image/jpeg:https://www.bahnhoffestival.at/wp-content/uploads/©-Tim-Knoll-02-scaled.jpeg
END:VEVENT
END:VCALENDAR