BEGIN:VCALENDAR
VERSION:2.0
PRODID:-//Take the A-Train - ECPv6.15.20//NONSGML v1.0//EN
CALSCALE:GREGORIAN
METHOD:PUBLISH
X-ORIGINAL-URL:https://www.bahnhoffestival.at
X-WR-CALDESC:Veranstaltungen für Take the A-Train
REFRESH-INTERVAL;VALUE=DURATION:PT1H
X-Robots-Tag:noindex
X-PUBLISHED-TTL:PT1H
BEGIN:VTIMEZONE
TZID:Europe/Berlin
BEGIN:DAYLIGHT
TZOFFSETFROM:+0100
TZOFFSETTO:+0200
TZNAME:CEST
DTSTART:20220327T010000
END:DAYLIGHT
BEGIN:STANDARD
TZOFFSETFROM:+0200
TZOFFSETTO:+0100
TZNAME:CET
DTSTART:20221030T010000
END:STANDARD
BEGIN:DAYLIGHT
TZOFFSETFROM:+0100
TZOFFSETTO:+0200
TZNAME:CEST
DTSTART:20230326T010000
END:DAYLIGHT
BEGIN:STANDARD
TZOFFSETFROM:+0200
TZOFFSETTO:+0100
TZNAME:CET
DTSTART:20231029T010000
END:STANDARD
BEGIN:DAYLIGHT
TZOFFSETFROM:+0100
TZOFFSETTO:+0200
TZNAME:CEST
DTSTART:20240331T010000
END:DAYLIGHT
BEGIN:STANDARD
TZOFFSETFROM:+0200
TZOFFSETTO:+0100
TZNAME:CET
DTSTART:20241027T010000
END:STANDARD
BEGIN:DAYLIGHT
TZOFFSETFROM:+0100
TZOFFSETTO:+0200
TZNAME:CEST
DTSTART:20250330T010000
END:DAYLIGHT
BEGIN:STANDARD
TZOFFSETFROM:+0200
TZOFFSETTO:+0100
TZNAME:CET
DTSTART:20251026T010000
END:STANDARD
BEGIN:DAYLIGHT
TZOFFSETFROM:+0100
TZOFFSETTO:+0200
TZNAME:CEST
DTSTART:20260329T010000
END:DAYLIGHT
BEGIN:STANDARD
TZOFFSETFROM:+0200
TZOFFSETTO:+0100
TZNAME:CET
DTSTART:20261025T010000
END:STANDARD
END:VTIMEZONE
BEGIN:VEVENT
DTSTART;TZID=Europe/Berlin:20250912T173000
DTEND;TZID=Europe/Berlin:20250912T173000
DTSTAMP:20260423T051341
CREATED:20250710T135450Z
LAST-MODIFIED:20250725T120627Z
UID:10000134-1757698200-1757698200@www.bahnhoffestival.at
SUMMARY:IMPRO:STATION
DESCRIPTION:IMPRO:STATION \n\n\n\n\n\n\n\n\n\n\n\nBewohnerservice E-Vorstadtfreier Eintritt \n\n\n\n\n\nIMPRO:STATION \n\n\n\n«Impro:station» ist ein Projekt\, bei dem das Duo Natalia Castaneira (Tanz) und Victor Toral (Musik) ein musikalisiertes Tanzwerk hervorbringt\, indem es die Werkzeuge untersucht\, mit denen beide Disziplinen arbeiten. Einerseits entwickelt der Tanz Motive durch die rhythmischen und melodischen Strategien der Jazzmusik und andererseits die Musik wird versuchen\, Tanz zu musikalisieren\, indem sie Rhythmen von den Tanz Figuren erzeugt. Es handelt sich um ein spannendes und ehrgeiziges Projekt\, dessen Daseinsberechtigung in der Synergie zwischen den beiden Disziplinen liegt. Mit Raum für getanzte Melodien und musikalisierten Tanz offenbart sich «Impro:station» als ein transversales\, melodisches und visuelles Werk\, bei dem das Improvisieren im Mittelpunkt steht. \n\n\n\n \n\n\n\n\n\nNatalia Castaneira: \n\n\n\n\n \n\n\n\n\nInstagram\n\n\n\nVictor Toral: \n\n\n\n\n \n\n\n\n\nYouTube\n\nLink\n\n\n\n\nNatalia Castaneira wurde 1986 in Mexiko geboren. Sie begann ihre Tanzkarriere in Barcelona\, wo sie an mehreren Tanz- und Theaterkursen und Workshops an verschiedenen Schulen teilgenommen hat. 2012 Abschluss an der SEAD (Salzburg Experimental Academy of Dance). Als Tänzerin hat sie mitverschiedenen Compagnien und Künstlern in Mexiko\, Österreich und Spanien zusammengearbeitet. Im Jahr 2017 erhielt sie Unterstützung vom Nationalen Fonds für Kultur und Künste in Mexiko\, was es ihr ermöglichte\, sich mit der Kreation auseinanderzusetzen. Im Jahr 2020 wurde sie gegründet\, um ihr erstes Gruppenstück zu schaffen. Seitdem macht sie eigene Stücke\, arbeitet mit anderen Künstlern zusammen und unterrichtet in Salzburg\, ihrer Heimatstadt.Victor Toral (Spanien) begann seine musikalische Ausbildung in Salamanca\, Spanien. Er setzte sein Musikstudium in Österreich fort\, wo er heute lebt und seine pädagogische und künstlerische Arbeitverbindet. Er spielte als Solokünstler und in verschiedenen Ensembles in Österreich\, Spanien\, Irland\, Deutschland\, Finnland\, Norwegen\,\,Mexiko und den USA. Parallel dazu studierte er Philosophie und vergleichende Literaturwissenschaft. \n\n\n\n \n\n\n\n\n\n\n\n\n\n\n\nLOCATION\n\n\n\nAlle Locations des Take The A-Train Festivals sind entspannt zu Fuß\, mit dem Fahrrad oder den öffentlichen Verkehrsmitteln erreichbar.
URL:https://www.bahnhoffestival.at/event/improstation/
LOCATION:Bewohnerservice Elisabeth-Vorstadt\, Elisabethstraße 9\, Salzburg\, 5020
CATEGORIES:freier Eintritt
ATTACH;FMTTYPE=image/webp:https://www.bahnhoffestival.at/wp-content/uploads/Untitled2-scaled.webp
END:VEVENT
BEGIN:VEVENT
DTSTART;TZID=Europe/Berlin:20240913T170000
DTEND;TZID=Europe/Berlin:20240913T170000
DTSTAMP:20260423T051341
CREATED:20240703T160141Z
LAST-MODIFIED:20240731T153056Z
UID:10000058-1726246800-1726246800@www.bahnhoffestival.at
SUMMARY:„TWO OUT OF THREE“  mit Giorgia Gasparetto & Vitus Denifl
DESCRIPTION:„TWO OUT OF THREE“  mit Giorgia Gasparetto & Vitus Denifl \n\n\n\n\n\n\n\n\n\n\n\n\n\n\n\nfreier Eintritt \n\n\n\n\n\n\n\n\n\n\n„TWO OUT OF THREE“  mit Giorgia Gasparetto & Vitus DeniflPerformance im öffentlichen Raum  Vitus Denifl ist Musiker\, Komponist und multidisziplinärer Künstler mit Basis in Salzburg. \n\n\n\nAls Saxophonist und Perkussionist ist er aktives Mitglied in den Bands Javentu und Moby Stick\, sowie Gastmusiker in diversen Formationen wie: Pilmaiquen\, Aramboa\, Wicked Dub Division mit Auftritten in Österreich\, Senegal\, Singapur\, Italien\, Deutschland\, Portugal\, Kroatien. \n\n\n\nSein besonderes Interesse gilt der Schnittstelle von Musik und darstellenden Künsten. Vitus Denifl komponiert für zeitgenössichen Tanz und Zirkustheater. Das Duo „Two out of Three“ mit Tänzerin Giorgia Gasparetto wurde 2023 beim Incastro Festival (Sizilien) erstaufgeführt. Mit dem Musik und Tanz Kollektiv “Choreosonic” fanden Auftritte im Zukunft Tanzt Festival 2023 (Frankfurt) und Take The A Train Festival 2023 (Salzburg) statt. „KAI“ ein Zirkustheater mit Nis Fee Brender im Floating Castle Festival 2023 (SLO). Vitus studierte Rhythmik/Musik- und Bewegungspädagogik (BA) an der Universität für Musik und darstellende Künste Wien und arbeitet als Gesundheits-Clown bei Rote Nasen Österreich.Giorgia Gasparetto ist Absolventin der SEAD – Salzburg Experimental Academy of Dance (Österreich) und hat mit verschiedenen Regisseur*innen und Choreograf*innen wie Heike Hennig\, Jan Lauwers (Needcompany) und Paul Blackman für die Salzburger Festspiele\, Pietro Marullo\, Dejà Donné\, Jacopo Spirei\, Barnaby Booth und anderen gearbeitet. Giorgia ist seit 2021 Mitglied der Alleyne Dance Company (UK). Ihr Tanz vermischt verschiedene Praktiken\, Stile und Disziplinen\, wobei sie nach einer Tournee mit einem Wanderzirkus auch Stimmarbeit und Zirkustheater einbezieht. \n\n\n\n\n\n\n \nTwo out of three TEASER\n\n\n\nGasparetto\n\nGasparetto\n\nDenifl\n\n\n\n\n\nArtistbild © Davis Fricano \n\n\n\n\n\n\n\n\n\n\n\nLOCATION
URL:https://www.bahnhoffestival.at/event/two-out-of-three-mit-giorgia-gasparetto-vitus-denifl/
LOCATION:Bewohnerservice Elisabeth-Vorstadt\, Elisabethstraße 9\, Salzburg\, 5020
CATEGORIES:freier Eintritt
ATTACH;FMTTYPE=image/jpeg:https://www.bahnhoffestival.at/wp-content/uploads/Two-out-of-three-1_c.David-Fricano-scaled.jpg
END:VEVENT
BEGIN:VEVENT
DTSTART;TZID=Europe/Berlin:20230915T193000
DTEND;TZID=Europe/Berlin:20230915T193000
DTSTAMP:20260423T051341
CREATED:20230728T153930Z
LAST-MODIFIED:20230914T132436Z
UID:10000028-1694806200-1694806200@www.bahnhoffestival.at
SUMMARY:MOZ UNDERGROUND
DESCRIPTION:MOZ UNDERGROUND \n\n\n\n\n\n\n\n\nfreier Eintritt \n\n\n\nEine kleine Gruppe junger Jazz-Musiker*innen mischt seit geraumer Zeit die ehrwürdigen Räume des Salzburger Mozarteums auf. Nach einigen großartigen Auftritten bei der traditionellen Jazzit:Session ist es nun Zeit das Quartett vom Jazz-Keller an die Oberfläche zu führen. Begeisternder Modern Jazz aus der Salzburger Musikszene! \n\n\n\n \n\n\n\nFelix Schubert – dr | Magdalena Kufer – b | Fabian Eicke – E-Zither | Maximilian Käding – Keys  \n\n\n\n\n\n\n\n\n\n\n\nLOCATION
URL:https://www.bahnhoffestival.at/event/moz-underground/
LOCATION:Bewohnerservice Elisabeth-Vorstadt\, Elisabethstraße 9\, Salzburg\, 5020
CATEGORIES:freier Eintritt
ATTACH;FMTTYPE=image/jpeg:https://www.bahnhoffestival.at/wp-content/uploads/PHOTO-2023-09-14-15-04-45-e1694697221879.jpg
END:VEVENT
END:VCALENDAR