BEGIN:VCALENDAR
VERSION:2.0
PRODID:-//Take the A-Train - ECPv6.15.20//NONSGML v1.0//EN
CALSCALE:GREGORIAN
METHOD:PUBLISH
X-ORIGINAL-URL:https://www.bahnhoffestival.at
X-WR-CALDESC:Veranstaltungen für Take the A-Train
REFRESH-INTERVAL;VALUE=DURATION:PT1H
X-Robots-Tag:noindex
X-PUBLISHED-TTL:PT1H
BEGIN:VTIMEZONE
TZID:Europe/Berlin
BEGIN:DAYLIGHT
TZOFFSETFROM:+0100
TZOFFSETTO:+0200
TZNAME:CEST
DTSTART:20220327T010000
END:DAYLIGHT
BEGIN:STANDARD
TZOFFSETFROM:+0200
TZOFFSETTO:+0100
TZNAME:CET
DTSTART:20221030T010000
END:STANDARD
BEGIN:DAYLIGHT
TZOFFSETFROM:+0100
TZOFFSETTO:+0200
TZNAME:CEST
DTSTART:20230326T010000
END:DAYLIGHT
BEGIN:STANDARD
TZOFFSETFROM:+0200
TZOFFSETTO:+0100
TZNAME:CET
DTSTART:20231029T010000
END:STANDARD
BEGIN:DAYLIGHT
TZOFFSETFROM:+0100
TZOFFSETTO:+0200
TZNAME:CEST
DTSTART:20240331T010000
END:DAYLIGHT
BEGIN:STANDARD
TZOFFSETFROM:+0200
TZOFFSETTO:+0100
TZNAME:CET
DTSTART:20241027T010000
END:STANDARD
BEGIN:DAYLIGHT
TZOFFSETFROM:+0100
TZOFFSETTO:+0200
TZNAME:CEST
DTSTART:20250330T010000
END:DAYLIGHT
BEGIN:STANDARD
TZOFFSETFROM:+0200
TZOFFSETTO:+0100
TZNAME:CET
DTSTART:20251026T010000
END:STANDARD
BEGIN:DAYLIGHT
TZOFFSETFROM:+0100
TZOFFSETTO:+0200
TZNAME:CEST
DTSTART:20260329T010000
END:DAYLIGHT
BEGIN:STANDARD
TZOFFSETFROM:+0200
TZOFFSETTO:+0100
TZNAME:CET
DTSTART:20261025T010000
END:STANDARD
END:VTIMEZONE
BEGIN:VEVENT
DTSTART;TZID=Europe/Berlin:20250911T180000
DTEND;TZID=Europe/Berlin:20250911T180000
DTSTAMP:20260422T141942
CREATED:20250530T092145Z
LAST-MODIFIED:20250723T130306Z
UID:10000123-1757613600-1757613600@www.bahnhoffestival.at
SUMMARY:ALIEN ENSEMBLE
DESCRIPTION:ALIEN ENSEMBLE \n\n\n\n\n\n18.00 \n\n\n\n\n\nHaus Elisabeth  \n\n\n\n\n\nfreier Eintritt \n\n\n\n\n\nALIEN ENSEMBLE \n\n\n\n\n\n\n\nMit The Notwist wird Micha Acher nahezu frenetisch gefeiert. Das ALIEN ENSEMBLE besteht neben Micha Acher unter anderem noch aus noch weiteren Mitgliedern von The Notwist und der Hochzeitskapelle: \n\n\n\n\n\n\n \n\n\n\n\n\n\n\n\nBandcamp\n\nFacebook\n\n\n\n\nTheresa Loibl – Bassklarinette | Karsten Hochapfel – Cello | Simon Popp – Schlagzeug | Mathias Götz – Posaune | Micha Acher – Trompete/ Sousaphone \n\n\n\nDa hört man alles von Minimal Music bis hin zu Krautrock-Einflüssen\, von filigranen Bläsersätzen bis hin zum Sound von New Orleans\, ist es so gut wie unmöglich\, den Sound von Alien Ensemble in eine Schublade zu stecken oder einen Genre-Begriff aufzudrücken. Wichtiger ist: Micha Achers Kompositionen\, die Art und Weise\, wie er diese Songs arrangiert und von den großartigen Musikern zum Leben erweckt \, sind in der deutschen Musiklandschaft sicher einzigartig. Immer bereit\, über den Tellerrand zu schauen\, erinnert die Musik des Alien Ensembles letztlich daran\, dass man sich von Schubladen und Klischees befreien muss\, wenn man wahre Kunst schaffen will. \n\n\n\n\n\n\n\n\n\n\n\n\n\nLOCATION\n\n\n\nAlle Locations des Take The A-Train Festivals sind entspannt zu Fuß\, mit dem Fahrrad oder den öffentlichen Verkehrsmitteln erreichbar.
URL:https://www.bahnhoffestival.at/event/alien-ensemble/
LOCATION:Haus Elisabeth\, Plainstraße 42A\, Salzburg\, 5020\, Österreich
CATEGORIES:freier Eintritt
ATTACH;FMTTYPE=image/png:https://www.bahnhoffestival.at/wp-content/uploads/Cover-1.png
END:VEVENT
BEGIN:VEVENT
DTSTART;TZID=Europe/Berlin:20240914T183000
DTEND;TZID=Europe/Berlin:20240914T183000
DTSTAMP:20260422T141942
CREATED:20240730T131624Z
LAST-MODIFIED:20240913T080717Z
UID:10000092-1726338600-1726338600@www.bahnhoffestival.at
SUMMARY:SHARKTANK
DESCRIPTION:SHARKTANK \n\n\n\n\n\n\n\n\n\n\n\n\n\n\n\nfreier Eintritt \n\n\n\n\n\nSHARKTANK \n\n\n\nHipHop meets Pop\, Indie joins Rap: Katrin\, Mile und Marco überwinden und verbinden im Zusammenspiel nicht nur Genres – als Sharktank öffnen sie »auf dem deutschsprachigen Musikmarkt eine Nische\, von der wir bisher nicht wussten\, dass sie existiert« (DIFFUS); wo verspielte Feel-Good-Beats und leichtlebige Instrumentals auf Conscious-Rap und melodische Vocals treffen\, hat das Wiener Trio seinen bunten\, eigenständigen Sound gefunden – jump in & swim along! \n\n\n\nMit „Acting Funny“ brachten sie am 24. März 2023 ihr zweites Album heraus und zeigen sich extravagant experimentierfreudig. Sharktank bleibt dennoch Sharktank – nur facettenreicher. \n\n\n\nVertraute melodischen Vocals\, Synthie-Sounds\, Rap und Rock bis hin zu Pop-Tunes verwebt die Band gekonnt und ganz ohne\, dass dabei das Gefühl einer schlechten Snack-Mixpackung aufkommt. Federleicht beweisen sie dabei\, was es bedeutet\, gegen und gleichzeitig mit dem Strom zu schwimmen\, ohne dabei auf der Stelle festzusitzen; Wiedererkennungswert\, eine Nominierung für den Amadeus Music Award 2022 und eine Live-Session bei dem amerikanischen Sender NPR inklusive. \n\n\n\nDer Sommer war dementsprechend breit gefächert und quer durch die Indie- und Tastemaker Festivals gab’s massig Applaus und Wertschätzung. Im April und Mai 2023 steht die erste eigene\, richtige Tour im deutschsprachigen Raum an und bringt für das Trio\, das Live um zwei weitere Positionen ergänzt wird\, Band-Leben par excellence.       \n\n\n\n\n\n\n \nSharktank – Get It Done (Official Video)\n\n\n\nInstagram\n\nSpotify\n\nYouTube\n\n\n\n\n\n\n\n\nArtistbild © Oskar Ott \n\n\n\n\n\n\n\nLOCATION
URL:https://www.bahnhoffestival.at/event/sharktank/
LOCATION:Haus Elisabeth\, Plainstraße 42A\, Salzburg\, 5020\, Österreich
CATEGORIES:freier Eintritt
ATTACH;FMTTYPE=image/jpeg:https://www.bahnhoffestival.at/wp-content/uploads/Oskar-Ott_DSC9660-1024x1024-1.jpg
END:VEVENT
BEGIN:VEVENT
DTSTART;TZID=Europe/Berlin:20240914T163000
DTEND;TZID=Europe/Berlin:20240914T163000
DTSTAMP:20260422T141942
CREATED:20240806T085702Z
LAST-MODIFIED:20240913T080754Z
UID:10000098-1726331400-1726331400@www.bahnhoffestival.at
SUMMARY:SCHATTENMUSIK
DESCRIPTION:SCHATTENMUSIK \n\n\n\n\n\n\n\n\n\n\n\n\n\n\n\nfreier Eintritt \n\n\n\n\n\nSCHATTENMUSIK \n\n\n\nSchattenmusik. Das sind Enzio und Hieronymus Kloss. Zwei Brüder aus Salzburg. Sie leben in Wien. Dort beginnen die beiden Ende des Jahres 2019 gemeinsam Lieder zu schreiben. Als tugendhafte Humanisten beschwören sie darin mit archaischer Symbolik die Engel und Geister der Liebe und tragen voller Freude die westliche Hochkultur zu Grabe. Sie nennen das: Psychedelische Schlager\, Zen Punk bzw. Humanisten Rock. Auf die Frage\, was das alles heißen soll\, antworten sie mit einem Schulterzucken und verweisen lächelnd auf McCartney/Lennon\, Hansi Hinterseer in the sky with diamonds bzw. Helene Fischers bösen Zwilling. Ihre Lieder verbinden die subversive Sprache des Konsumkapitalismus mit stark verdichteter deutscher Lyrik und vermeintlichem Nonsense. Nach der düster melancholischen EP “Rote Wangen” schweben Schattenmusik mit ihrem Debütalbum „Alles Liebe“ auf einer nostalgischen Wolke\, die den Duft der psychedelischen Rock-Revolution der späten 60er Jahre trägt. \n\n\n\nSeit 2021 werden die Brüder auf der Bühne mit Moritz Meixner an den Drums und Markus Windisch am Bass zu einer klassischen four-piece Rockband. Fans berichteten nach den letzten Konzerten unter anderem von ekstatischen Abzweigungen in tiefere Etagen des psychedelic Rock und transzendenten Odysseen\, welche die zarten Lieder des Albums zu einem zähen Ganzen verschmelzen lassen. \n\n\n\n\n\n\n \nSchattenmusik – Alle lieben Susi (Official Video)\n\n\n\nInstagram\n\nSpotify\n\n\n\n\n\n\n\n\nArtistbild © Melanie Jovancic \n\n\n\n\n\n\n\nLOCATION
URL:https://www.bahnhoffestival.at/event/schattenmusik/
LOCATION:Haus Elisabeth\, Plainstraße 42A\, Salzburg\, 5020\, Österreich
CATEGORIES:freier Eintritt
ATTACH;FMTTYPE=image/jpeg:https://www.bahnhoffestival.at/wp-content/uploads/Schattenmusik-c-Melanie-Jovancic-scaled.jpeg
END:VEVENT
BEGIN:VEVENT
DTSTART;TZID=Europe/Berlin:20240913T183000
DTEND;TZID=Europe/Berlin:20240913T183000
DTSTAMP:20260422T141942
CREATED:20240703T160155Z
LAST-MODIFIED:20240913T080832Z
UID:10000056-1726252200-1726252200@www.bahnhoffestival.at
SUMMARY:HIDDEN GEMZ
DESCRIPTION:HIDDEN GEMZ \n\n\n\n\n\n\n\n\n\n\n\n\n\n\n\nfreier Eintritt \n\n\n\n\n\n \n\n\n\nIrgendwo zwischen HipHop\, Rock und dem Herzen Wiens sind die Newcomer „Hidden Gemz“ zu finden: der jungen Band gelingt es mühelos\, unterschiedliche Elemente aus den verschiedensten Ecken des Musikkosmos zu vereinen – der Falter benennt dies sogleich als „Hip-Hop ohne Genrepurismus“.          \n\n\n\n\n\n\n\nBesetzung \n\n\n\nDidier Kurazikubone: vDavid Murg: b\, k\, vMateo Schmid: gJonas Strondl\, dr \n\n\n\n\n\n\n \nHidden Gemz (ROOFTOP SESSION)\n\n\n\nInstagram\n\nSpotify\n\nYouTube\n\n\n\n\nArtistbild © Zaazou Amin \n\n\n\n\n\n\n\n\n\n\n\nLOCATION
URL:https://www.bahnhoffestival.at/event/hidden-gemz-at/
LOCATION:Haus Elisabeth\, Plainstraße 42A\, Salzburg\, 5020\, Österreich
CATEGORIES:freier Eintritt
ATTACH;FMTTYPE=image/jpeg:https://www.bahnhoffestival.at/wp-content/uploads/Presskit_Foto_by_Zaazou_Amin_2-scaled.jpg
END:VEVENT
BEGIN:VEVENT
DTSTART;TZID=Europe/Berlin:20240912T180000
DTEND;TZID=Europe/Berlin:20240912T180000
DTSTAMP:20260422T141942
CREATED:20240703T155806Z
LAST-MODIFIED:20240723T133413Z
UID:10000057-1726164000-1726164000@www.bahnhoffestival.at
SUMMARY:PIERRE BASTIEN A/V
DESCRIPTION:PIERRE BASTIEN A/V \n\n\n\n\n\n\n\n\n\n\n\n\n\n\n\nfreier Eintritt \n\n\n\n\n\n\n\n\n\n\nAV Performance/Installation \n\n\n\nPierre Bastien komponiert weiterhin mit einem Schraubenzieher. Seine Klanggeräte sind auf renommierten Labels für elektronische Musik zu hören: Rephlex (Aphex Twin)\, Morphine\, Marionette\, Discrepant Records. Dabei sind sie ausschließlich aus rohen\, physischen Materialien gefertigt: Metall\, Schilf\, Rosshaar\, Wasser\, Holz – alle angetrieben von Elektromotoren. Eines haben sie mit Entwicklung der Elektronik gemeinsam: Dass sie im Laufe der Jahre immer kompakter und miniaturisierter geworden sind\, bis zu dem Punkt an dem sie jetzt in das kleine Volumen eines Trompetendämpfers eingesetzt werden können. Der Dämpfer einer Trompete dämpft den Klang des Instruments und macht ihn weicher. Aber Pierres Dämpfer bewirken genau das Gegenteil. Sie fügen Explosionen von Wasserblasen\, Bogenstriche\, Flötenflüge\, Perkussionen\, Sanza-Riffs und Harmonium-Akkorde zu den Trompetenklängen hinzu: Erweitert um die mechanischen Dämpfer wird die Trompete zu einem Orchester ausvielfältiger Klangfarben.   \n\n\n\n\n\n\n \nPierre Bastien live at Festival BBmix 2013\n\n\n\nLink\n\nSoundCloud\n\n\n\n\n\n\n\n\n\n\n\n\n\nLOCATION
URL:https://www.bahnhoffestival.at/event/pierre-bastien-a-v/
LOCATION:Haus Elisabeth\, Plainstraße 42A\, Salzburg\, 5020\, Österreich
CATEGORIES:freier Eintritt
ATTACH;FMTTYPE=image/jpeg:https://www.bahnhoffestival.at/wp-content/uploads/solo2024©katja-stonewood.jpg
END:VEVENT
BEGIN:VEVENT
DTSTART;TZID=Europe/Berlin:20230914T180000
DTEND;TZID=Europe/Berlin:20230914T180000
DTSTAMP:20260422T141942
CREATED:20230524T162223Z
LAST-MODIFIED:20230713T151856Z
UID:10000013-1694714400-1694714400@www.bahnhoffestival.at
SUMMARY:EMBRYO (DE)
DESCRIPTION:EMBRYO (DE) \n\n\n\n\n\n\n\n\nfreier Eintritt \n\n\n\n\nEmbryo ist ein einzigartiges Musikkollektiv aus München\, welches Kraut Rock\, Jazz\, freie Improvisation\, inner- und außereuropäische Rhytmen und Klänge verbindet wie kein Zweites.  \n\n\n\nEmbryo existiert seit 1969\, übergreift Generationen\, Genres und Grenzen. Sie spielten bereits mit Mal Waldron\, Okay Temiz\, Fela Kuti\, Charlie Mariano und vielen anderen. \n\n\n\nIm Sommer 2016 erlitt Embryo-Gründer Christian Burchard im Alter von 70 Jahren einen Schlaganfall\, wodurch seine Konzertauftritte erschwert wurden. Daraufhin übernahm seine Tochter Marja die Leitung der Band und führt sie auch nach dem Tod Burchards im Januar 2018 fort. Sie hat die Band durch neue Elemente und neue Mitglieder verjüngt\, trägt aber\, mit der Einbindung von Musiker*innen aus unterschiedlichen Kulturkreisen wie aus Afghanistan\, Marokko\, China\, Gambia usw.\, die Embryo-Tradition fort. \n\n\n\n\n\n\n \nEMBRYO am XJAZZ! Festival 2021\n\n\n\nFacebook\n\nSpotify\n\nWordPress\n\n\n\n\n\n\n\n\n\n\n\n\n\n\n\n\nLOCATION
URL:https://www.bahnhoffestival.at/event/embryo/
LOCATION:Haus Elisabeth\, Plainstraße 42A\, Salzburg\, 5020\, Österreich
CATEGORIES:freier Eintritt
ATTACH;FMTTYPE=image/jpeg:https://www.bahnhoffestival.at/wp-content/uploads/L1000369-scaled.jpeg
END:VEVENT
END:VCALENDAR